BEGIN:VCALENDAR
VERSION:2.0
PRODID:-//Fous du Volant - ECPv6.15.4//NONSGML v1.0//EN
CALSCALE:GREGORIAN
METHOD:PUBLISH
X-WR-CALNAME:Fous du Volant
X-ORIGINAL-URL:https://fdvvarangeville.fr
X-WR-CALDESC:Évènements pour Fous du Volant
REFRESH-INTERVAL;VALUE=DURATION:PT1H
X-Robots-Tag:noindex
X-PUBLISHED-TTL:PT1H
BEGIN:VTIMEZONE
TZID:Europe/Paris
BEGIN:DAYLIGHT
TZOFFSETFROM:+0100
TZOFFSETTO:+0200
TZNAME:CEST
DTSTART:20220327T010000
END:DAYLIGHT
BEGIN:STANDARD
TZOFFSETFROM:+0200
TZOFFSETTO:+0100
TZNAME:CET
DTSTART:20221030T010000
END:STANDARD
BEGIN:DAYLIGHT
TZOFFSETFROM:+0100
TZOFFSETTO:+0200
TZNAME:CEST
DTSTART:20230326T010000
END:DAYLIGHT
BEGIN:STANDARD
TZOFFSETFROM:+0200
TZOFFSETTO:+0100
TZNAME:CET
DTSTART:20231029T010000
END:STANDARD
BEGIN:DAYLIGHT
TZOFFSETFROM:+0100
TZOFFSETTO:+0200
TZNAME:CEST
DTSTART:20240331T010000
END:DAYLIGHT
BEGIN:STANDARD
TZOFFSETFROM:+0200
TZOFFSETTO:+0100
TZNAME:CET
DTSTART:20241027T010000
END:STANDARD
BEGIN:DAYLIGHT
TZOFFSETFROM:+0100
TZOFFSETTO:+0200
TZNAME:CEST
DTSTART:20250330T010000
END:DAYLIGHT
BEGIN:STANDARD
TZOFFSETFROM:+0200
TZOFFSETTO:+0100
TZNAME:CET
DTSTART:20251026T010000
END:STANDARD
END:VTIMEZONE
BEGIN:VEVENT
DTSTART;TZID=Europe/Paris:20250818T183000
DTEND;TZID=Europe/Paris:20250818T183000
DTSTAMP:20260423T224007
CREATED:20250710T115444Z
LAST-MODIFIED:20250710T120820Z
UID:2377-1755541800-1755541800@fdvvarangeville.fr
SUMMARY:Début saison 2026
DESCRIPTION:
URL:https://fdvvarangeville.fr/event/debut-de-saison-2026/
END:VEVENT
BEGIN:VEVENT
DTSTART;TZID=Europe/Paris:20250713T120000
DTEND;TZID=Europe/Paris:20250713T120000
DTSTAMP:20260423T224007
CREATED:20250710T114744Z
LAST-MODIFIED:20250710T120832Z
UID:2374-1752408000-1752408000@fdvvarangeville.fr
SUMMARY:Fin saison 2025
DESCRIPTION:
URL:https://fdvvarangeville.fr/event/fin-saison-2025/
END:VEVENT
BEGIN:VEVENT
DTSTART;TZID=Europe/Paris:20250706T090000
DTEND;TZID=Europe/Paris:20250706T090000
DTSTAMP:20260423T224007
CREATED:20250611T221912Z
LAST-MODIFIED:20250611T223430Z
UID:1865-1751792400-1751792400@fdvvarangeville.fr
SUMMARY:Rencontre amicale Lunéville
DESCRIPTION:Chers adhérents\,\n \nLe Badminton Club de Lunéville nous convie\, en retour\, à une rencontre amicale le dimanche 6 juillet 2025\, c’est l’occasion de clôturer cette saison sur une note fort sympathique.\n \nAprès les matchs nous laisserons place à l’apéro et échangerons un repas tous ensemble.\n \nNous reviendrons avec plus de détails quand nous saurons qui participe \n \nPour le savoir il vous suffit de répondre au questionnaire joint au mail que vous avez reçu.\n\nDate limite de réponse le vendredi 27 juin 2025
URL:https://fdvvarangeville.fr/event/rencontre-amicale-luneville/
LOCATION:Lunéville\, 73 Rue Sainte-Anne\, Lunéville\, 54300\, France
CATEGORIES:sport
END:VEVENT
BEGIN:VEVENT
DTSTART;TZID=Europe/Paris:20250627T190000
DTEND;TZID=Europe/Paris:20250627T190000
DTSTAMP:20260423T224007
CREATED:20250611T221025Z
LAST-MODIFIED:20250611T221346Z
UID:1858-1751050800-1751050800@fdvvarangeville.fr
SUMMARY:Assemblée Générale
DESCRIPTION:Cher adhérent(e)\,\nL’Assemblée Générale annuelle de notre association\, se tiendra le vendredi 27 juin à partir de\n19h00\, salle du Chapitre (Prieuré – chemin de la prairie Varangéville).\nLes points suivants seront à l’ordre du jour de cette réunion :\n• L’entente avec Saint Nicolas\,\n• Les différents évènements de l’année (rencontres amicales\, Marché de Noël\, 14 juillet\n2024\, bars éphémères …)\n• Interclubs\n• Critérium FNSMR\n• L’approbation des comptes\,\n• Sponsoring\,subventions\n• Election bureau\,\n• Questions diverses.\nIl vous est possible de poser des questions à l’assemblée par écrit. Les réponses aux questions seront  faites durant l’assemblée générale.\nSi vous ne pouvez pas vous rendre à l’assemblée\, vous pouvez donner procuration par le biais du document joint\, il vous suffit de nous la retourner. \nA l’issue de la réunion\, nous partagerons le pot de l’amitié et pour ceux qui le souhaitent et peuvent être présents ce sera l’occasion de partager notre repas de fin de saison\, et une petite soirée dont nous avons le secret. \nMerci de bien vouloir confirmer votre présence pour avant le jeudi 19 juin dernier délai afin que l’on puisse organiser le repas.
URL:https://fdvvarangeville.fr/event/assemblee-generale/
LOCATION:Salle du Chapitre\, 44 Rue Jean Jaurès\, Varangéville\, 54110\, France
CATEGORIES:information
ORGANIZER;CN="Fous du Volant":MAILTO:test@gmail.com
END:VEVENT
BEGIN:VEVENT
DTSTART;TZID=Europe/Paris:20250622T140000
DTEND;TZID=Europe/Paris:20250622T140000
DTSTAMP:20260423T224007
CREATED:20250618T100152Z
LAST-MODIFIED:20250618T100152Z
UID:2091-1750600800-1750600800@fdvvarangeville.fr
SUMMARY:Bar Éphémère
DESCRIPTION:Après une inauguration réussie le samedi 14 juin 👉 revivre l’événement ici\,l’association Les Fous du Volant revient au Parc du Prieuré de Varangéville ce dimanche 22 juin\, toujours dans le cadre des bars éphémères de la ville. \n🎸 Au programme de l’après-midi :Un concert de rock proposé par les musiciens de l’école de musique de Varangéville ! Ambiance garantie dans un cadre verdoyant. \n🍹 Et bien sûr\, restauration et rafraîchissements à disposition comme toujours. \n🙏 Un grand merci à la mairie de Varangéville pour sa confiance renouvelée et son soutien dans cette belle aventure locale. \nVenez nombreux pour partager un moment convivial\, festif et musical !
URL:https://fdvvarangeville.fr/event/bar-ephemere/
LOCATION:Parc du Prieuré\, Espace Prieuré\, Varangéville\, 54110\, France
ORGANIZER;CN="Fous du Volant":MAILTO:test@gmail.com
END:VEVENT
BEGIN:VEVENT
DTSTART;TZID=Europe/Paris:20250614T160000
DTEND;TZID=Europe/Paris:20250614T160000
DTSTAMP:20260423T224007
CREATED:20250611T172202Z
LAST-MODIFIED:20250614T084316Z
UID:1799-1749916800-1749916800@fdvvarangeville.fr
SUMMARY:Inauguration Bar Éphémère 2025
DESCRIPTION:🎉 Les Fous du Volant ouvrent la saison des Bars Éphémères à Varangéville !\n  \nComme chaque année\, la Ville de Varangéville lance la saison estivale avec ses Bars Éphémères au Parc du Prieuré. Et pour cette édition 2025\, c’est notre club Les Fous du Volant qui aura l’honneur de faire l’inauguration ce samedi 14 juin à partir de 16h ! \nAu programme tout l’après-midi :🏸 Speedminton – pour découvrir une version fun et rapide du badminton🎶 Blindtest musical – testez vos connaissances en musique⚫ Pétanque – détente et convivialité🍔 Restauration sur place – pour reprendre des forces entre deux activités ! \nEt ce n’est pas tout !🌃 En soirée : Karaoké ouvert à tous – ambiance garantie !🤝 Nous aurons également le plaisir d’accueillir nos amis allemands de Bruchköbel\, pour fêter les 60 ans du jumelage avec Varangéville. \nVenez nombreux partager ce moment festif avec nous !👉 Entrée libre – tout public – ambiance familiale garantie
URL:https://fdvvarangeville.fr/event/inauguration-bar-ephemere-2025/
LOCATION:Parc du Prieuré\, Espace Prieuré\, Varangéville\, 54110\, France
CATEGORIES:animation
ATTACH;FMTTYPE=image/png:https://fdvvarangeville.fr/wp-content/uploads/2025/06/BAR-ephemere-2025-Inauguration-002-e1749662501268.png
ORGANIZER;CN="Fous du Volant":MAILTO:test@gmail.com
END:VEVENT
BEGIN:VEVENT
DTSTART;VALUE=DATE:20250518
DTEND;VALUE=DATE:20250519
DTSTAMP:20260423T224007
CREATED:20250617T173514Z
LAST-MODIFIED:20250617T173622Z
UID:2082-1747526400-1747612799@fdvvarangeville.fr
SUMMARY:Tournoi chez nos amis de Saint-Nicolas-de-Port
DESCRIPTION:Bonjour à tous\,\n\nComme tous les ans nous sommes conviés par le Badminton Club de St Nicolas pour la rencontre amicale qui a lieu chez eux. Cette année c’est le dimanche 18 mai qu’elle aura lieu\n\nComme je vous l’avais précisé en début d’année\, je compte sur le plus grand nombre d’entre vous pour cette rencontre sous le signe de l’amitié\, raquette à la main puis l’occasion d’échanger autour d’un repas.\n\nJe vous laisse prendre connaissance du mail de Valérie\, présidente du BCP\, et revenir vers nous avant le 7 mai\, date butoire. Nous nous chargeons de prendre les inscriptions et les transmettre à Valérie.\n\nJe vous souhaite bonne réception\n\nA bientôt
URL:https://fdvvarangeville.fr/event/tournoi-chez-nos-amis-de-saint-nicolas-de-port/
LOCATION:Gymnase de Saint-Nicolas-de-Port\, 50 Rue du Blanc Mur\, Saint-Nicolas-de-Port\, 54210\, France
CATEGORIES:événement,sport
END:VEVENT
BEGIN:VEVENT
DTSTART;TZID=Europe/Paris:20250330T083000
DTEND;TZID=Europe/Paris:20250330T170000
DTSTAMP:20260423T224007
CREATED:20250617T172626Z
LAST-MODIFIED:20250617T172716Z
UID:2076-1743323400-1743354000@fdvvarangeville.fr
SUMMARY:Tournoi Double Mixte
DESCRIPTION:Bonjour à tous\,\n \nLes Fous du Volant\, de Varangéville\, organisent la seconde édition de leur tournoi amical le dimanche 30 mars 2025.\n \nCe dernier ne vise pas forcément les personnes inscrites en compétition mais apporte l’occasion à ceux qui débutent\, de se lancer\, dans un esprit un peu compétitif mais avant tout dans le but de se faire plaisir et rencontrer de nouveaux adversaires.\n \nIl s’agit d’un tournoi uniquement en équipe mixte\, inscription 5 euros par participant\, et\, vous avez la possibilité de réserver un repas ….. tout est d’ans l’affiche jointe\n \nA vos raquettes et à bientôt
URL:https://fdvvarangeville.fr/event/tournoi-double-mixte/
CATEGORIES:événement,sport
ATTACH;FMTTYPE=image/jpeg:https://fdvvarangeville.fr/wp-content/uploads/2025/06/2024_tournoi_fdv.jpg
ORGANIZER;CN="Fous du Volant":MAILTO:test@gmail.com
END:VEVENT
BEGIN:VEVENT
DTSTART;VALUE=DATE:20240428
DTEND;VALUE=DATE:20240429
DTSTAMP:20260423T224007
CREATED:20250626T191143Z
LAST-MODIFIED:20250626T191447Z
UID:2147-1714262400-1714348799@fdvvarangeville.fr
SUMMARY:Tournoi Mixte 2024
DESCRIPTION:Détails du Tournoi​\nDate : 28 avrilHoraires : 09:00-12:00 – 13:30-17:00Nombre de participants : 16 équipes de double mixteLieu : Salle des Sports Claude Baumann\, 54110 VarangévilleInscription : par mail fdvvaran@gmail.com ou 0786205921 \nFrais d’inscription​\n		La participation au tournoi est accessible à tous avec un prix d’inscription de 5 euros par personne. Pour ceux qui souhaitent également profiter d’un délicieux repas fait maison\, un supplément de 10 euros couvrira les lasagnes accompagnées de salade fraîche.		 \nLots à Gagner\nLe tournoi ne se limite pas seulement à la compétition\, mais offre également des récompenses attrayantes pour les participants. Les premiers auront la chance de remporter des prix variés\, tels que des bons d’achat ou des équipements de sport. \n																														 \nUne volonté de rassembler\n		L’objectif principal des Fous du Volant est de cultiver une communauté où la joie et la bonne humeur prévalent. Ce dimanche ne sera pas simplement une compétition\, c’est un moment de partage\, d’échange et d’exploration. Nous sommes impatients de voir de nouveaux visages\, de créer de nouvelles amitiés et de tisser des liens encore plus forts avec nos clubs amis.		 \nUne Journée Sous le Signe du Badminton et de la Convivialité\n\nCe tournoi loisir à Varangéville\, près de Nancy vise à promouvoir la passion pour le badminton tout en offrant une expérience amicale et mémorable. Que vous soyez un joueur chevronné ou débutant\, cet événement est l’occasion idéale de partager votre amour du sport tout en créant des souvenirs durables. \nNe manquez pas cette opportunité de participer à une compétition enrichissante\, de remporter des lots attrayants\, et de tisser des liens avec d’autres passionnés de badminton de la région de Nancy. Rendez-vous le 28 avril pour une journée inoubliable dédiée à la raquette\, au volant\, et à l’esprit sportif.
URL:https://fdvvarangeville.fr/event/tournoi-mixte-2024/
LOCATION:Gymnase\, 4 Rue Nelson Mandela\, Varangéville\, 54110\, France
ORGANIZER;CN="Fous du Volant":MAILTO:test@gmail.com
END:VEVENT
BEGIN:VEVENT
DTSTART;TZID=Europe/Paris:20221021T193000
DTEND;TZID=Europe/Paris:20221022T020000
DTSTAMP:20260423T224007
CREATED:20220912T130653Z
LAST-MODIFIED:20220912T153957Z
UID:455-1666380600-1666404000@fdvvarangeville.fr
SUMMARY:Soirée Choucroute
DESCRIPTION:On va faire une soirée Choucroutte sur Halloween\, venez ça va être bon !
URL:https://fdvvarangeville.fr/event/soiree-choucroute/
LOCATION:Salle des fêtes\, 10 Place de La-bas\, Varangéville\, 54110\, France
ORGANIZER;CN="Fous du Volant":MAILTO:test@gmail.com
END:VEVENT
END:VCALENDAR